BEGIN:VCALENDAR
VERSION:2.0
PRODID:-//Compagnia Finzi Pasca - ECPv6.3.5//NONSGML v1.0//EN
CALSCALE:GREGORIAN
METHOD:PUBLISH
X-ORIGINAL-URL:https://secondotest.finzipasca.com/es/
X-WR-CALDESC:Eventos para Compagnia Finzi Pasca
REFRESH-INTERVAL;VALUE=DURATION:PT1H
X-Robots-Tag:noindex
X-PUBLISHED-TTL:PT1H
BEGIN:VTIMEZONE
TZID:Europe/Zurich
BEGIN:DAYLIGHT
TZOFFSETFROM:+0100
TZOFFSETTO:+0200
TZNAME:CEST
DTSTART:20240331T010000
END:DAYLIGHT
BEGIN:STANDARD
TZOFFSETFROM:+0200
TZOFFSETTO:+0100
TZNAME:CET
DTSTART:20241027T010000
END:STANDARD
END:VTIMEZONE
BEGIN:VEVENT
DTSTART;VALUE=DATE:20241030
DTEND;VALUE=DATE:20241104
DTSTAMP:20260424T094826
CREATED:20240117T222712Z
LAST-MODIFIED:20240117T222807Z
UID:25625-1730246400-1730678399@secondotest.finzipasca.com
SUMMARY:Corteo - Stuttgart
DESCRIPTION:La palabra “Corteo” refiere a una procesión alegre\, la nuestra es una suerte de desfile festivo que nace de la fantasía de un clown. Uniendo la pasión del actor con la elegancia y la fuerza del acróbata\, el espectáculo nos transporta a un mundo teatral hecho de diversión\, comedia y espontaneidad\, un espacio misterioso suspendido entre el cielo y la tierra. \nEl clown imagina su proprio funeral\, envuelto en una atmósfera carnavalesca\, mientras los ángeles desde arriba observan benévolos y atentos. Lo alto se mezcla con lo bajo\, el ridículo con lo trágico y la magia de la perfección con la fascinación de la imperfección\, devolviéndonos la fuerza y la fragilidad del clown\, su sabiduría y su tierna inocencia\, esos rasgos de humanidad que están dentro de cada uno de nosotros. La música\, a veces lírica\, a veces divertida\, evoca un rito sin tiempo en el cual la ilusión juega con la realidad. \n.
URL:https://secondotest.finzipasca.com/es/event/corteo-stuttgart-2/
LOCATION:Porsche-Arena\, Mercedesstraße 69\, Stuttgart\, 70372\, Germany
ATTACH;FMTTYPE=image/jpeg:https://secondotest.finzipasca.com/wp-content/uploads/2018/02/corteo_1.jpg
END:VEVENT
END:VCALENDAR