BEGIN:VCALENDAR
VERSION:2.0
PRODID:-//Compagnia Finzi Pasca - ECPv6.3.5//NONSGML v1.0//EN
CALSCALE:GREGORIAN
METHOD:PUBLISH
X-ORIGINAL-URL:https://secondotest.finzipasca.com/es/
X-WR-CALDESC:Eventos para Compagnia Finzi Pasca
REFRESH-INTERVAL;VALUE=DURATION:PT1H
X-Robots-Tag:noindex
X-PUBLISHED-TTL:PT1H
BEGIN:VTIMEZONE
TZID:Europe/Zurich
BEGIN:DAYLIGHT
TZOFFSETFROM:+0100
TZOFFSETTO:+0200
TZNAME:CEST
DTSTART:20240331T010000
END:DAYLIGHT
BEGIN:STANDARD
TZOFFSETFROM:+0200
TZOFFSETTO:+0100
TZNAME:CET
DTSTART:20241027T010000
END:STANDARD
BEGIN:DAYLIGHT
TZOFFSETFROM:+0100
TZOFFSETTO:+0200
TZNAME:CEST
DTSTART:20250330T010000
END:DAYLIGHT
BEGIN:STANDARD
TZOFFSETFROM:+0200
TZOFFSETTO:+0100
TZNAME:CET
DTSTART:20251026T010000
END:STANDARD
END:VTIMEZONE
BEGIN:VEVENT
DTSTART;VALUE=DATE:20241124
DTEND;VALUE=DATE:20250113
DTSTAMP:20260423T000452
CREATED:20240117T233856Z
LAST-MODIFIED:20240117T233940Z
UID:25685-1732406400-1736726399@secondotest.finzipasca.com
SUMMARY:Luzia - Sydney
DESCRIPTION:Un sueño de México de ojos abiertos \nLuzia te transporta a un México imaginario\, como en un sueño de ojos abiertos\, donde la luz sacia el espíritu y la lluvia  alivia al alma. A través de una serie de grandiosas sorpresas visuales y ejecuciones acrobáticas impactantes\, Luzia invita a los espectadores a un viaje surreal\, en un mundo suntuoso y vivaz\, suspendido de alguna manera entre el sueño y la realidad.Pasando con agilidad de un set de filmación de una película de época en el océano\, a las atmósferas brumosas de una pista de baile o a un árido desierto\, Luzia trae hábilmente a escena los innumerables lugares\,  caras  y sonidos de México\, tanto de la tradición como de la modernidad. Rico en momentos sugerentes\, Luzia encanta al público integrando el elemento de la lluvia en algunas escenas artísticas y acrobáticas\, la primera vez en una producción en gira del Cirque du Soleil. \n\n\n\n\n\n\n\n\n\n 
URL:https://secondotest.finzipasca.com/es/event/luzia-sydney/
LOCATION:The Entertainment Quarter\, 122 Land Rd\, Moore Park\, NSW 2021\, Australia
ATTACH;FMTTYPE=image/jpeg:https://secondotest.finzipasca.com/wp-content/uploads/2018/02/Luzia.jpeg
END:VEVENT
END:VCALENDAR